BEGIN:VCALENDAR
VERSION:2.0
PRODID:-//Strumpshaw Parish Council//Meeting Calendar//EN
CALSCALE:GREGORIAN
METHOD:PUBLISH
BEGIN:VEVENT
UID:71462-20260417@strumpshaw-pc.gov.uk
DTSTAMP:20260424T082945Z
DTSTART;VALUE=DATE:20260417
DTEND;VALUE=DATE:20260418
SUMMARY:Community Hall Committee &#8211\\; 17 April 2026
DESCRIPTION:Community Hall Committee Meeting\nView details: https://strumpshaw-pc.gov.uk/meetings/community-hall-committee-2/
URL:https://strumpshaw-pc.gov.uk/meetings/community-hall-committee-2/
END:VEVENT
END:VCALENDAR
