BEGIN:VCALENDAR
VERSION:2.0
PRODID:-//Strumpshaw Parish Council//Meeting Calendar//EN
CALSCALE:GREGORIAN
METHOD:PUBLISH
BEGIN:VEVENT
UID:71285-20250827@strumpshaw-pc.gov.uk
DTSTAMP:20260424T235500Z
DTSTART;VALUE=DATE:20250827
DTEND;VALUE=DATE:20250828
SUMMARY:(Extra) Council Meeting &#8211\\; 27 August 2025
DESCRIPTION:Full Council Meeting\nView details: https://strumpshaw-pc.gov.uk/meetings/extra-council-meeting-27-august-2025/
URL:https://strumpshaw-pc.gov.uk/meetings/extra-council-meeting-27-august-2025/
END:VEVENT
END:VCALENDAR
