BEGIN:VCALENDAR
VERSION:2.0
PRODID:-//Strumpshaw Parish Council//Meeting Calendar//EN
CALSCALE:GREGORIAN
METHOD:PUBLISH
BEGIN:VEVENT
UID:71278-20240909@strumpshaw-pc.gov.uk
DTSTAMP:20260424T100952Z
DTSTART;VALUE=DATE:20240909
DTEND;VALUE=DATE:20240910
SUMMARY:Council Meeting 9 September 2024
DESCRIPTION:Full Council Meeting\nView details: https://strumpshaw-pc.gov.uk/meetings/council-meeting-9-september-2024/
URL:https://strumpshaw-pc.gov.uk/meetings/council-meeting-9-september-2024/
END:VEVENT
END:VCALENDAR
