BEGIN:VCALENDAR
VERSION:2.0
PRODID:-//Strumpshaw Parish Council//Meeting Calendar//EN
CALSCALE:GREGORIAN
METHOD:PUBLISH
BEGIN:VEVENT
UID:71271-20250806@strumpshaw-pc.gov.uk
DTSTAMP:20260424T222653Z
DTSTART;VALUE=DATE:20250806
DTEND;VALUE=DATE:20250807
SUMMARY:(Extra) Council Meeting &#8211\\; 6 August 2025
DESCRIPTION:Full Council Meeting\nView details: https://strumpshaw-pc.gov.uk/meetings/extra-council-meeting-6-august-2025/
URL:https://strumpshaw-pc.gov.uk/meetings/extra-council-meeting-6-august-2025/
END:VEVENT
END:VCALENDAR
