BEGIN:VCALENDAR
VERSION:2.0
PRODID:-//Strumpshaw Parish Council//Meeting Calendar//EN
CALSCALE:GREGORIAN
METHOD:PUBLISH
BEGIN:VEVENT
UID:71234-20250718@strumpshaw-pc.gov.uk
DTSTAMP:20260424T101442Z
DTSTART;VALUE=DATE:20250718
DTEND;VALUE=DATE:20250719
SUMMARY:Community Hall Committee Meeting 18 July 2025
DESCRIPTION:Community Hall Committee Meeting\nView details: https://strumpshaw-pc.gov.uk/meetings/community-hall-committee/
URL:https://strumpshaw-pc.gov.uk/meetings/community-hall-committee/
END:VEVENT
END:VCALENDAR
