BEGIN:VCALENDAR
VERSION:2.0
PRODID:-//Strumpshaw Parish Council//Meeting Calendar//EN
CALSCALE:GREGORIAN
METHOD:PUBLISH
BEGIN:VEVENT
UID:71190-20250616@strumpshaw-pc.gov.uk
DTSTAMP:20260424T184911Z
DTSTART;VALUE=DATE:20250616
DTEND;VALUE=DATE:20250617
SUMMARY:(Extra) Council Meeting 16 June 2025
DESCRIPTION:Full Council Meeting\nView details: https://strumpshaw-pc.gov.uk/meetings/extra-council-meeting-16-june-2025/
URL:https://strumpshaw-pc.gov.uk/meetings/extra-council-meeting-16-june-2025/
END:VEVENT
END:VCALENDAR
