BEGIN:VCALENDAR
VERSION:2.0
PRODID:-//Strumpshaw Parish Council//Meeting Calendar//EN
CALSCALE:GREGORIAN
METHOD:PUBLISH
BEGIN:VEVENT
UID:70652-20250520@strumpshaw-pc.gov.uk
DTSTAMP:20260420T114325Z
DTSTART;VALUE=DATE:20250520
DTEND;VALUE=DATE:20250521
SUMMARY:Annual Council Meeting &#8211\\; 20 May 2025
DESCRIPTION:Annual Council Meeting\nView details: https://strumpshaw-pc.gov.uk/meetings/annual-council-meeting-20-may-2025/
URL:https://strumpshaw-pc.gov.uk/meetings/annual-council-meeting-20-may-2025/
END:VEVENT
END:VCALENDAR
