BEGIN:VCALENDAR
VERSION:2.0
PRODID:-//Strumpshaw Parish Council//Meeting Calendar//EN
CALSCALE:GREGORIAN
METHOD:PUBLISH
BEGIN:VEVENT
UID:70649-20250121@strumpshaw-pc.gov.uk
DTSTAMP:20260424T153401Z
DTSTART;VALUE=DATE:20250121
DTEND;VALUE=DATE:20250122
SUMMARY:Council Meeting &#8211\\; 21 January 2025
DESCRIPTION:Full Council Meeting\nView details: https://strumpshaw-pc.gov.uk/meetings/council-meeting-21-january-2025/
URL:https://strumpshaw-pc.gov.uk/meetings/council-meeting-21-january-2025/
END:VEVENT
END:VCALENDAR
