BEGIN:VCALENDAR
VERSION:2.0
PRODID:-//Strumpshaw Parish Council//Meeting Calendar//EN
CALSCALE:GREGORIAN
METHOD:PUBLISH
BEGIN:VEVENT
UID:70618-20240716@strumpshaw-pc.gov.uk
DTSTAMP:20260424T083920Z
DTSTART;VALUE=DATE:20240716
DTEND;VALUE=DATE:20240717
SUMMARY:Council Meeting &#8211\\; 16 July 2024
DESCRIPTION:Full Council Meeting\nView details: https://strumpshaw-pc.gov.uk/meetings/council-meeting-16th-july-2024/
URL:https://strumpshaw-pc.gov.uk/meetings/council-meeting-16th-july-2024/
END:VEVENT
END:VCALENDAR
