BEGIN:VCALENDAR
VERSION:2.0
PRODID:-//Strumpshaw Parish Council//Meeting Calendar//EN
CALSCALE:GREGORIAN
METHOD:PUBLISH
BEGIN:VEVENT
UID:70599-20240427@strumpshaw-pc.gov.uk
DTSTAMP:20260424T134704Z
DTSTART;VALUE=DATE:20240427
DTEND;VALUE=DATE:20240428
SUMMARY:Community Hall Committee Meeting &#8211\\; 27 April 2024
DESCRIPTION:Community Hall Committee Meeting\nView details: https://strumpshaw-pc.gov.uk/meetings/council-meeting-27th-april-2024/
URL:https://strumpshaw-pc.gov.uk/meetings/council-meeting-27th-april-2024/
END:VEVENT
END:VCALENDAR
