BEGIN:VCALENDAR
VERSION:2.0
PRODID:-//Strumpshaw Parish Council//Meeting Calendar//EN
CALSCALE:GREGORIAN
METHOD:PUBLISH
BEGIN:VEVENT
UID:70590-20240116@strumpshaw-pc.gov.uk
DTSTAMP:20260424T083600Z
DTSTART;VALUE=DATE:20240116
DTEND;VALUE=DATE:20240117
SUMMARY:Council Meeting &#8211\\; 16 January 2024
DESCRIPTION:Full Council Meeting\nView details: https://strumpshaw-pc.gov.uk/meetings/council-meeting-16th-january-2024/
URL:https://strumpshaw-pc.gov.uk/meetings/council-meeting-16th-january-2024/
END:VEVENT
END:VCALENDAR
